BEGIN:VCALENDAR
VERSION:2.0
PRODID:-//jEvents 1.5 for Joomla//EN
CALSCALE:GREGORIAN
METHOD:PUBLISH
BEGIN:VEVENT

UID:5814e1166f54c4b91e83524aea3d21fa
CATEGORIES:Yearly Festivals
SUMMARY:Holi Mahotsav
LOCATION:
DESCRIPTION;ENCODING=QUOTED-PRINTABLE:

DTSTAMP:20260419T215639Z
DTSTART:20220317
DTEND:20220317
SEQUENCE:0
RRULE:FREQ=YEARLY;COUNT=10;INTERVAL=1;BYYEARDAY=+76
TRANSP:OPAQUE
END:VEVENT
END:VCALENDAR