BEGIN:VCALENDAR
VERSION:2.0
PRODID:-//jEvents 1.5 for Joomla//EN
CALSCALE:GREGORIAN
METHOD:PUBLISH
BEGIN:VEVENT

UID:5814e1166f54c4b91e83524aea3d21fa
CATEGORIES:Yearly Festivals
SUMMARY:Holi Mahotsav
LOCATION:
DESCRIPTION;ENCODING=QUOTED-PRINTABLE:

DTSTAMP:20260419T202822Z
DTSTART:20260317
DTEND:20260317
SEQUENCE:0
TRANSP:OPAQUE
END:VEVENT
END:VCALENDAR